BEGIN:VCALENDAR
VERSION:2.0
PRODID:-//Hundesport Gro&szlig;enhain e.V. - ECPv6.2.6//NONSGML v1.0//EN
CALSCALE:GREGORIAN
METHOD:PUBLISH
X-WR-CALNAME:Hundesport Gro&szlig;enhain e.V.
X-ORIGINAL-URL:https://hundesport-grossenhain.de
X-WR-CALDESC:Veranstaltungen für Hundesport Gro&szlig;enhain e.V.
REFRESH-INTERVAL;VALUE=DURATION:PT1H
X-Robots-Tag:noindex
X-PUBLISHED-TTL:PT1H
BEGIN:VTIMEZONE
TZID:UTC
BEGIN:STANDARD
TZOFFSETFROM:+0000
TZOFFSETTO:+0000
TZNAME:UTC
DTSTART:20230101T000000
END:STANDARD
END:VTIMEZONE
BEGIN:VEVENT
DTSTART;TZID=UTC:20230317T160000
DTEND;TZID=UTC:20230317T180000
DTSTAMP:20260423T063053
CREATED:20230316T095450Z
LAST-MODIFIED:20230316T095450Z
UID:44-1679068800-1679076000@hundesport-grossenhain.de
SUMMARY:Kreisgruppenversammlung
DESCRIPTION:
URL:https://hundesport-grossenhain.de/event/kreisgruppenversammlung/
LOCATION:HSV GRH\, Villastraße\, Großenhain\, Sachsen\, 01558\, Deutschland
CATEGORIES:Öffentliche Veranstaltungen
END:VEVENT
END:VCALENDAR