BEGIN:VCALENDAR
VERSION:2.0
PRODID:-//Hundesport Gro&szlig;enhain e.V. - ECPv6.2.6//NONSGML v1.0//EN
CALSCALE:GREGORIAN
METHOD:PUBLISH
X-WR-CALNAME:Hundesport Gro&szlig;enhain e.V.
X-ORIGINAL-URL:https://hundesport-grossenhain.de
X-WR-CALDESC:Veranstaltungen für Hundesport Gro&szlig;enhain e.V.
REFRESH-INTERVAL;VALUE=DURATION:PT1H
X-Robots-Tag:noindex
X-PUBLISHED-TTL:PT1H
BEGIN:VTIMEZONE
TZID:Europe/Paris
BEGIN:DAYLIGHT
TZOFFSETFROM:+0100
TZOFFSETTO:+0200
TZNAME:CEST
DTSTART:20230326T010000
END:DAYLIGHT
BEGIN:STANDARD
TZOFFSETFROM:+0200
TZOFFSETTO:+0100
TZNAME:CET
DTSTART:20231029T010000
END:STANDARD
END:VTIMEZONE
BEGIN:VEVENT
DTSTART;TZID=Europe/Paris:20231216T170000
DTEND;TZID=Europe/Paris:20231216T200000
DTSTAMP:20260422T183344
CREATED:20230316T093130Z
LAST-MODIFIED:20230316T093130Z
UID:40-1702746000-1702756800@hundesport-grossenhain.de
SUMMARY:Schrottwichteln
DESCRIPTION:
URL:https://hundesport-grossenhain.de/event/schrottwichteln/
LOCATION:HSV GRH\, Villastraße\, Großenhain\, Sachsen\, 01558\, Deutschland
CATEGORIES:Vereinsintern
END:VEVENT
END:VCALENDAR